BEGIN:VCALENDAR
VERSION:2.0
PRODID:-//Thomas Enterpreneurship Hub - ECPv6.15.20//NONSGML v1.0//EN
CALSCALE:GREGORIAN
METHOD:PUBLISH
X-WR-CALNAME:Thomas Enterpreneurship Hub
X-ORIGINAL-URL:https://thethomashub.org
X-WR-CALDESC:Events for Thomas Enterpreneurship Hub
REFRESH-INTERVAL;VALUE=DURATION:PT1H
X-Robots-Tag:noindex
X-PUBLISHED-TTL:PT1H
BEGIN:VTIMEZONE
TZID:America/New_York
BEGIN:DAYLIGHT
TZOFFSETFROM:-0500
TZOFFSETTO:-0400
TZNAME:EDT
DTSTART:20230312T070000
END:DAYLIGHT
BEGIN:STANDARD
TZOFFSETFROM:-0400
TZOFFSETTO:-0500
TZNAME:EST
DTSTART:20231105T060000
END:STANDARD
BEGIN:DAYLIGHT
TZOFFSETFROM:-0500
TZOFFSETTO:-0400
TZNAME:EDT
DTSTART:20240310T070000
END:DAYLIGHT
BEGIN:STANDARD
TZOFFSETFROM:-0400
TZOFFSETTO:-0500
TZNAME:EST
DTSTART:20241103T060000
END:STANDARD
BEGIN:DAYLIGHT
TZOFFSETFROM:-0500
TZOFFSETTO:-0400
TZNAME:EDT
DTSTART:20250309T070000
END:DAYLIGHT
BEGIN:STANDARD
TZOFFSETFROM:-0400
TZOFFSETTO:-0500
TZNAME:EST
DTSTART:20251102T060000
END:STANDARD
END:VTIMEZONE
BEGIN:VEVENT
DTSTART;VALUE=DATE:20240412
DTEND;VALUE=DATE:20240413
DTSTAMP:20260423T025615
CREATED:20240412T232218Z
LAST-MODIFIED:20240412T232218Z
UID:5877-1712880000-1712966399@thethomashub.org
SUMMARY:James' Birthday
DESCRIPTION:
URL:https://thethomashub.org/event/james-birthday/
END:VEVENT
BEGIN:VEVENT
DTSTART;TZID=America/New_York:20240412T140000
DTEND;TZID=America/New_York:20240412T200000
DTSTAMP:20260423T025615
CREATED:20240412T232218Z
LAST-MODIFIED:20240412T232218Z
UID:5878-1712930400-1712952000@thethomashub.org
SUMMARY:African Wedding/African Student Association
DESCRIPTION:
URL:https://thethomashub.org/event/african-wedding-african-student-association/
LOCATION:Lobby
END:VEVENT
BEGIN:VEVENT
DTSTART;TZID=America/New_York:20240412T150000
DTEND;TZID=America/New_York:20240412T170000
DTSTAMP:20260423T025615
CREATED:20240412T232218Z
LAST-MODIFIED:20240412T232218Z
UID:5879-1712934000-1712941200@thethomashub.org
SUMMARY:Sabrina Locklear
DESCRIPTION:
URL:https://thethomashub.org/event/sabrina-locklear/
LOCATION:Large Conference Room
END:VEVENT
END:VCALENDAR