BEGIN:VCALENDAR
VERSION:2.0
PRODID:-//Thomas Enterpreneurship Hub - ECPv6.15.20//NONSGML v1.0//EN
CALSCALE:GREGORIAN
METHOD:PUBLISH
X-WR-CALNAME:Thomas Enterpreneurship Hub
X-ORIGINAL-URL:https://thethomashub.org
X-WR-CALDESC:Events for Thomas Enterpreneurship Hub
REFRESH-INTERVAL;VALUE=DURATION:PT1H
X-Robots-Tag:noindex
X-PUBLISHED-TTL:PT1H
BEGIN:VTIMEZONE
TZID:America/New_York
BEGIN:DAYLIGHT
TZOFFSETFROM:-0500
TZOFFSETTO:-0400
TZNAME:EDT
DTSTART:20230312T070000
END:DAYLIGHT
BEGIN:STANDARD
TZOFFSETFROM:-0400
TZOFFSETTO:-0500
TZNAME:EST
DTSTART:20231105T060000
END:STANDARD
BEGIN:DAYLIGHT
TZOFFSETFROM:-0500
TZOFFSETTO:-0400
TZNAME:EDT
DTSTART:20240310T070000
END:DAYLIGHT
BEGIN:STANDARD
TZOFFSETFROM:-0400
TZOFFSETTO:-0500
TZNAME:EST
DTSTART:20241103T060000
END:STANDARD
BEGIN:DAYLIGHT
TZOFFSETFROM:-0500
TZOFFSETTO:-0400
TZNAME:EDT
DTSTART:20250309T070000
END:DAYLIGHT
BEGIN:STANDARD
TZOFFSETFROM:-0400
TZOFFSETTO:-0500
TZNAME:EST
DTSTART:20251102T060000
END:STANDARD
END:VTIMEZONE
BEGIN:VEVENT
DTSTART;TZID=America/New_York:20240905T180000
DTEND;TZID=America/New_York:20240905T193000
DTSTAMP:20260420T170217
CREATED:20240905T054501Z
LAST-MODIFIED:20240905T054501Z
UID:6526-1725559200-1725564600@thethomashub.org
SUMMARY:ETI/Open House
DESCRIPTION:
URL:https://thethomashub.org/event/eti-open-house/
LOCATION:Lobby\, Large/Small Conference Room
END:VEVENT
BEGIN:VEVENT
DTSTART;TZID=America/New_York:20240905T180000
DTEND;TZID=America/New_York:20240905T193000
DTSTAMP:20260420T170217
CREATED:20240905T054502Z
LAST-MODIFIED:20240905T054502Z
UID:6527-1725559200-1725564600@thethomashub.org
SUMMARY:ETI/Open House
DESCRIPTION:
URL:https://thethomashub.org/event/eti-open-house-2/
LOCATION:Lobby\, Large/Small Conference Room
END:VEVENT
END:VCALENDAR