BEGIN:VCALENDAR
VERSION:2.0
PRODID:-//Thomas Enterpreneurship Hub - ECPv6.15.20//NONSGML v1.0//EN
CALSCALE:GREGORIAN
METHOD:PUBLISH
X-WR-CALNAME:Thomas Enterpreneurship Hub
X-ORIGINAL-URL:https://thethomashub.org
X-WR-CALDESC:Events for Thomas Enterpreneurship Hub
REFRESH-INTERVAL;VALUE=DURATION:PT1H
X-Robots-Tag:noindex
X-PUBLISHED-TTL:PT1H
BEGIN:VTIMEZONE
TZID:America/Los_Angeles
BEGIN:DAYLIGHT
TZOFFSETFROM:-0800
TZOFFSETTO:-0700
TZNAME:PDT
DTSTART:20230312T100000
END:DAYLIGHT
BEGIN:STANDARD
TZOFFSETFROM:-0700
TZOFFSETTO:-0800
TZNAME:PST
DTSTART:20231105T090000
END:STANDARD
BEGIN:DAYLIGHT
TZOFFSETFROM:-0800
TZOFFSETTO:-0700
TZNAME:PDT
DTSTART:20240310T100000
END:DAYLIGHT
BEGIN:STANDARD
TZOFFSETFROM:-0700
TZOFFSETTO:-0800
TZNAME:PST
DTSTART:20241103T090000
END:STANDARD
BEGIN:DAYLIGHT
TZOFFSETFROM:-0800
TZOFFSETTO:-0700
TZNAME:PDT
DTSTART:20250309T100000
END:DAYLIGHT
BEGIN:STANDARD
TZOFFSETFROM:-0700
TZOFFSETTO:-0800
TZNAME:PST
DTSTART:20251102T090000
END:STANDARD
END:VTIMEZONE
BEGIN:VEVENT
DTSTART;TZID=America/Los_Angeles:20241028T180000
DTEND;TZID=America/Los_Angeles:20241028T200000
DTSTAMP:20260421T012141
CREATED:20241009T164029Z
LAST-MODIFIED:20241009T164029Z
UID:6719-1730138400-1730145600@thethomashub.org
SUMMARY:Future Business Opportunities for North Carolina Agriculture
DESCRIPTION:Dr. Robin Goldstein will discuss his\nwork on cannabis prices\, consumer\ndemand and the economic impacts\nof regulations. Of particular interest\nto North Carolina agriculture and\nbusiness owners\, he will also talk\nabout the fuzzy difference between\nhemp and marijuana under the\nfarm bill and the growth of a large\ngray market across the country\n(especially in a few southeastern\nstates including NC) for intoxicating\nhemp products. A question and\nanswer session will follow his\npresentation.
URL:https://thethomashub.org/event/future-business-opportunities-for-north-carolina-agriculture/
LOCATION:The Thomas Entrepreneurship Hub\, 202 Main St\, Pembroke\, NC 28372\, USA
ATTACH;FMTTYPE=image/png:https://thethomashub.org/wp-content/uploads/2024/10/Upcoming-Event-Flyer-tdm-tuffdigitalmarketing-com-tuffdigitalmarketing-Mail-10-09-2024_12_30_PM.png
END:VEVENT
END:VCALENDAR