BEGIN:VCALENDAR
VERSION:2.0
PRODID:-//Thomas Enterpreneurship Hub - ECPv6.15.20//NONSGML v1.0//EN
CALSCALE:GREGORIAN
METHOD:PUBLISH
X-WR-CALNAME:Thomas Enterpreneurship Hub
X-ORIGINAL-URL:https://thethomashub.org
X-WR-CALDESC:Events for Thomas Enterpreneurship Hub
REFRESH-INTERVAL;VALUE=DURATION:PT1H
X-Robots-Tag:noindex
X-PUBLISHED-TTL:PT1H
BEGIN:VTIMEZONE
TZID:UTC
BEGIN:STANDARD
TZOFFSETFROM:+0000
TZOFFSETTO:+0000
TZNAME:UTC
DTSTART:20230101T000000
END:STANDARD
END:VTIMEZONE
BEGIN:VTIMEZONE
TZID:America/New_York
BEGIN:DAYLIGHT
TZOFFSETFROM:-0500
TZOFFSETTO:-0400
TZNAME:EDT
DTSTART:20230312T070000
END:DAYLIGHT
BEGIN:STANDARD
TZOFFSETFROM:-0400
TZOFFSETTO:-0500
TZNAME:EST
DTSTART:20231105T060000
END:STANDARD
BEGIN:DAYLIGHT
TZOFFSETFROM:-0500
TZOFFSETTO:-0400
TZNAME:EDT
DTSTART:20240310T070000
END:DAYLIGHT
BEGIN:STANDARD
TZOFFSETFROM:-0400
TZOFFSETTO:-0500
TZNAME:EST
DTSTART:20241103T060000
END:STANDARD
BEGIN:DAYLIGHT
TZOFFSETFROM:-0500
TZOFFSETTO:-0400
TZNAME:EDT
DTSTART:20250309T070000
END:DAYLIGHT
BEGIN:STANDARD
TZOFFSETFROM:-0400
TZOFFSETTO:-0500
TZNAME:EST
DTSTART:20251102T060000
END:STANDARD
END:VTIMEZONE
BEGIN:VEVENT
DTSTART;TZID=UTC:20240404T173000
DTEND;TZID=UTC:20240404T210000
DTSTAMP:20260420T201451
CREATED:20240130T003905Z
LAST-MODIFIED:20240130T003905Z
UID:5716-1712251800-1712264400@thethomashub.org
SUMMARY:Business Visions
DESCRIPTION:
URL:https://thethomashub.org/event/business-visions/
END:VEVENT
BEGIN:VEVENT
DTSTART;TZID=America/New_York:20240404T160000
DTEND;TZID=America/New_York:20240404T210000
DTSTAMP:20260420T201451
CREATED:20240120T185505Z
LAST-MODIFIED:20240223T185441Z
UID:5656-1712246400-1712264400@thethomashub.org
SUMMARY:UNCP Department of Counseling CSI Annual Inductions
DESCRIPTION:
URL:https://thethomashub.org/event/uncp-department-of-counseling-csi-annual-inductions/
LOCATION:Thomas Hub Lobby
END:VEVENT
BEGIN:VEVENT
DTSTART;TZID=America/New_York:20240330T190000
DTEND;TZID=America/New_York:20240330T200000
DTSTAMP:20260420T201451
CREATED:20240120T185505Z
LAST-MODIFIED:20240223T185441Z
UID:5654-1711825200-1711828800@thethomashub.org
SUMMARY:My Time To Shine Talent Show Competition
DESCRIPTION:
URL:https://thethomashub.org/event/my-time-to-shine-talent-show-competition/
END:VEVENT
BEGIN:VEVENT
DTSTART;VALUE=DATE:20240321
DTEND;VALUE=DATE:20240323
DTSTAMP:20260420T201451
CREATED:20240112T185433Z
LAST-MODIFIED:20240223T185441Z
UID:5609-1710979200-1711151999@thethomashub.org
SUMMARY:19th Annual Southeast Native Studies Conference
DESCRIPTION:
URL:https://thethomashub.org/event/19th-annual-southeast-native-studies-conference/
END:VEVENT
BEGIN:VEVENT
DTSTART;TZID=America/New_York:20240319T173000
DTEND;TZID=America/New_York:20240319T203000
DTSTAMP:20260420T201451
CREATED:20240126T185613Z
LAST-MODIFIED:20240223T185441Z
UID:5699-1710869400-1710880200@thethomashub.org
SUMMARY:Capital Catalyst Cohort
DESCRIPTION:
URL:https://thethomashub.org/event/capital-catalyst-cohort-4/
LOCATION:The Thomas Entrepreneurship Hub\, 202 Main St\, Pembroke\, NC 28372\, USA
END:VEVENT
BEGIN:VEVENT
DTSTART;TZID=America/New_York:20240318T090000
DTEND;TZID=America/New_York:20240318T110000
DTSTAMP:20260420T201451
CREATED:20240220T185610Z
LAST-MODIFIED:20240223T185440Z
UID:5805-1710752400-1710759600@thethomashub.org
SUMMARY:Ice House Presentations
DESCRIPTION:
URL:https://thethomashub.org/event/ice-house-presentations/
LOCATION:Main Lobby
END:VEVENT
BEGIN:VEVENT
DTSTART;TZID=America/New_York:20240315T090000
DTEND;TZID=America/New_York:20240315T150000
DTSTAMP:20260420T201451
CREATED:20240120T185504Z
LAST-MODIFIED:20240201T185608Z
UID:5653-1710493200-1710514800@thethomashub.org
SUMMARY:AG Training-Stevenson Consulting Group
DESCRIPTION:
URL:https://thethomashub.org/event/ag-training-stevenson-consulting-group-2/
LOCATION:UNCP Hub Large Conference Room
END:VEVENT
BEGIN:VEVENT
DTSTART;TZID=America/New_York:20240312T173000
DTEND;TZID=America/New_York:20240312T203000
DTSTAMP:20260420T201451
CREATED:20240126T185613Z
LAST-MODIFIED:20240223T185440Z
UID:5698-1710264600-1710275400@thethomashub.org
SUMMARY:Capital Catalyst Cohort
DESCRIPTION:
URL:https://thethomashub.org/event/capital-catalyst-cohort-3/
LOCATION:The Thomas Entrepreneurship Hub\, 202 Main St\, Pembroke\, NC 28372\, USA
END:VEVENT
BEGIN:VEVENT
DTSTART;TZID=America/New_York:20240306T090000
DTEND;TZID=America/New_York:20240306T153000
DTSTAMP:20260420T201451
CREATED:20240120T185452Z
LAST-MODIFIED:20240201T185607Z
UID:5652-1709715600-1709739000@thethomashub.org
SUMMARY:AG Training-Stevenson Consulting Group
DESCRIPTION:
URL:https://thethomashub.org/event/ag-training-stevenson-consulting-group/
LOCATION:UNCP Hub Large Conference Room
END:VEVENT
BEGIN:VEVENT
DTSTART;TZID=America/New_York:20240305T173000
DTEND;TZID=America/New_York:20240305T203000
DTSTAMP:20260420T201451
CREATED:20240126T185612Z
LAST-MODIFIED:20240223T185440Z
UID:5697-1709659800-1709670600@thethomashub.org
SUMMARY:Capital Catalyst Cohort
DESCRIPTION:
URL:https://thethomashub.org/event/capital-catalyst-cohort-2/
LOCATION:The Thomas Entrepreneurship Hub\, 202 Main St\, Pembroke\, NC 28372\, USA
END:VEVENT
BEGIN:VEVENT
DTSTART;TZID=America/New_York:20240228T110000
DTEND;TZID=America/New_York:20240228T140000
DTSTAMP:20260420T201451
CREATED:20240120T185452Z
LAST-MODIFIED:20240223T185440Z
UID:5650-1709118000-1709128800@thethomashub.org
SUMMARY:SBTDC Tech Training
DESCRIPTION:
URL:https://thethomashub.org/event/sbtdc-tech-training/
LOCATION:UNCP Hub Main Lobby
END:VEVENT
BEGIN:VEVENT
DTSTART;TZID=America/New_York:20240227T173000
DTEND;TZID=America/New_York:20240227T203000
DTSTAMP:20260420T201451
CREATED:20240126T185612Z
LAST-MODIFIED:20240223T185440Z
UID:5694-1709055000-1709065800@thethomashub.org
SUMMARY:Capital Catalyst Cohort
DESCRIPTION:
URL:https://thethomashub.org/event/capital-catalyst-cohort/
LOCATION:The Thomas Entrepreneurship Hub\, 202 Main St\, Pembroke\, NC 28372\, USA
END:VEVENT
BEGIN:VEVENT
DTSTART;TZID=America/New_York:20240227T090000
DTEND;TZID=America/New_York:20240227T150000
DTSTAMP:20260420T201451
CREATED:20240202T065503Z
LAST-MODIFIED:20240223T185440Z
UID:5756-1709024400-1709046000@thethomashub.org
SUMMARY:NC A&T Farming Class
DESCRIPTION:
URL:https://thethomashub.org/event/nc-at-farming-class/
LOCATION:Large Conference Room
END:VEVENT
BEGIN:VEVENT
DTSTART;TZID=America/New_York:20240221T100000
DTEND;TZID=America/New_York:20240221T150000
DTSTAMP:20260420T201451
CREATED:20240208T185442Z
LAST-MODIFIED:20240222T005723Z
UID:5772-1708509600-1708527600@thethomashub.org
SUMMARY:Fairmont Job Fair & Blood Drive
DESCRIPTION:
URL:https://thethomashub.org/event/fairmont-job-fair-blood-drive-2/
LOCATION:207 S Main St\, Fairmont\, NC 28340\, USA
END:VEVENT
BEGIN:VEVENT
DTSTART;TZID=America/New_York:20240220T123000
DTEND;TZID=America/New_York:20240220T150000
DTSTAMP:20260420T201451
CREATED:20240105T065506Z
LAST-MODIFIED:20240220T185608Z
UID:5570-1708432200-1708441200@thethomashub.org
SUMMARY:North Carolina State University February Food Forum
DESCRIPTION:
URL:https://thethomashub.org/event/art-exhibit/
LOCATION:Main Lobby
END:VEVENT
BEGIN:VEVENT
DTSTART;TZID=America/New_York:20240215T080000
DTEND;TZID=America/New_York:20240215T100000
DTSTAMP:20260420T201451
CREATED:20240208T185442Z
LAST-MODIFIED:20240215T185356Z
UID:5770-1707984000-1707991200@thethomashub.org
SUMMARY:Robeson County Opioid Response
DESCRIPTION:
URL:https://thethomashub.org/event/robeson-county-opioid-response/
LOCATION:The Thomas Entrepreneurship Hub\, Main Lobby
END:VEVENT
BEGIN:VEVENT
DTSTART;TZID=America/New_York:20240208T090000
DTEND;TZID=America/New_York:20240208T123000
DTSTAMP:20260420T201451
CREATED:20240120T185451Z
LAST-MODIFIED:20240208T185441Z
UID:5649-1707382800-1707395400@thethomashub.org
SUMMARY:Intro to Business Class-Shelia Harris
DESCRIPTION:
URL:https://thethomashub.org/event/intro-to-business-class-shelia-harris/
LOCATION:UNCP Hub Main Lobby
END:VEVENT
BEGIN:VEVENT
DTSTART;TZID=America/New_York:20240206T090000
DTEND;TZID=America/New_York:20240206T150000
DTSTAMP:20260420T201451
CREATED:20240120T185451Z
LAST-MODIFIED:20240201T185606Z
UID:5648-1707210000-1707231600@thethomashub.org
SUMMARY:Stevenson Consulting Group: Ag Training
DESCRIPTION:
URL:https://thethomashub.org/event/stevenson-consulting-group-ag-training/
LOCATION:UNCP Hub Large Conference Room
END:VEVENT
BEGIN:VEVENT
DTSTART;TZID=America/New_York:20240131T173000
DTEND;TZID=America/New_York:20240131T223000
DTSTAMP:20260420T201451
CREATED:20240120T185451Z
LAST-MODIFIED:20240131T185350Z
UID:5646-1706722200-1706740200@thethomashub.org
SUMMARY:Community and Civic Engagement
DESCRIPTION:
URL:https://thethomashub.org/event/community-and-civic-engagement/
LOCATION:UNCP Hub Main Lobby
END:VEVENT
BEGIN:VEVENT
DTSTART;TZID=America/New_York:20240130T180000
DTEND;TZID=America/New_York:20240130T210000
DTSTAMP:20260420T201451
CREATED:20240106T065323Z
LAST-MODIFIED:20240130T185421Z
UID:5581-1706637600-1706648400@thethomashub.org
SUMMARY:Town of Pembroke Public Town Meeting
DESCRIPTION:
URL:https://thethomashub.org/event/town-of-pembroke-public-town-meeting/
LOCATION:UNCP Hub Main Lobby
END:VEVENT
BEGIN:VEVENT
DTSTART;TZID=America/New_York:20240126T120000
DTEND;TZID=America/New_York:20240126T140000
DTSTAMP:20260420T201451
CREATED:20240120T185451Z
LAST-MODIFIED:20240126T185616Z
UID:5643-1706270400-1706277600@thethomashub.org
SUMMARY:Endowed Chair Search
DESCRIPTION:
URL:https://thethomashub.org/event/endowed-chair-search/
LOCATION:Thomas Hub Large Conference Room
END:VEVENT
BEGIN:VEVENT
DTSTART;VALUE=DATE:20240126
DTEND;VALUE=DATE:20240128
DTSTAMP:20260420T201451
CREATED:20240120T185450Z
LAST-MODIFIED:20240127T185441Z
UID:5641-1706227200-1706399999@thethomashub.org
SUMMARY:The Little Mermaid Auditions
DESCRIPTION:
URL:https://thethomashub.org/event/the-little-mermaid-auditions/
END:VEVENT
BEGIN:VEVENT
DTSTART;TZID=America/New_York:20240124T120000
DTEND;TZID=America/New_York:20240124T140000
DTSTAMP:20260420T201451
CREATED:20240123T005938Z
LAST-MODIFIED:20240124T185433Z
UID:5673-1706097600-1706104800@thethomashub.org
SUMMARY:Concerts\, Clicks\, and Consumer Insights: Dr. Michael Barbera's Journey
DESCRIPTION:
URL:https://thethomashub.org/event/concerts-clicks-and-consumer-insights-dr-michael-barberas-journey/
LOCATION:JTH Upchurch Auditorium
END:VEVENT
BEGIN:VEVENT
DTSTART;TZID=America/New_York:20240120T090000
DTEND;TZID=America/New_York:20240120T170000
DTSTAMP:20260420T201451
CREATED:20240106T065323Z
LAST-MODIFIED:20240120T185450Z
UID:5579-1705741200-1705770000@thethomashub.org
SUMMARY:Town of Tabor City Council Retreat
DESCRIPTION:
URL:https://thethomashub.org/event/town-of-tabor-city-council-retreat/
LOCATION:Large Conference Room
END:VEVENT
BEGIN:VEVENT
DTSTART;TZID=America/New_York:20240119T093000
DTEND;TZID=America/New_York:20240119T153000
DTSTAMP:20260420T201451
CREATED:20240118T065837Z
LAST-MODIFIED:20240119T185437Z
UID:5624-1705656600-1705678200@thethomashub.org
SUMMARY:ETI Meeting
DESCRIPTION:
URL:https://thethomashub.org/event/eti-meeting/
LOCATION:Large Conference Room
END:VEVENT
BEGIN:VEVENT
DTSTART;TZID=America/New_York:20240118T183000
DTEND;TZID=America/New_York:20240118T200000
DTSTAMP:20260420T201451
CREATED:20240112T185433Z
LAST-MODIFIED:20240118T185418Z
UID:5608-1705602600-1705608000@thethomashub.org
SUMMARY:Visiting Authors Series-Dr. Phillip Stephens
DESCRIPTION:
URL:https://thethomashub.org/event/visiting-authors-series-dr-phillip-stephens/
LOCATION:Osterneck Auditorium
END:VEVENT
BEGIN:VEVENT
DTSTART;TZID=America/New_York:20240111T090000
DTEND;TZID=America/New_York:20240111T170000
DTSTAMP:20260420T201451
CREATED:20240106T065323Z
LAST-MODIFIED:20240111T185456Z
UID:5578-1704963600-1704992400@thethomashub.org
SUMMARY:Vinyl Kings Quarterly Review
DESCRIPTION:
URL:https://thethomashub.org/event/vinyl-kings-quarterly-review/
LOCATION:Large Conference Room
END:VEVENT
BEGIN:VEVENT
DTSTART;TZID=America/New_York:20240110T150000
DTEND;TZID=America/New_York:20240110T180000
DTSTAMP:20260420T201451
CREATED:20240106T065323Z
LAST-MODIFIED:20240111T005739Z
UID:5577-1704898800-1704909600@thethomashub.org
SUMMARY:Ground Breaking Ceremony Reception
DESCRIPTION:
URL:https://thethomashub.org/event/ground-breaking-ceremony-reception/
LOCATION:Front Lobby
END:VEVENT
BEGIN:VEVENT
DTSTART;TZID=America/New_York:20240109T090000
DTEND;TZID=America/New_York:20240109T170000
DTSTAMP:20260420T201451
CREATED:20240106T065323Z
LAST-MODIFIED:20240109T211227Z
UID:5576-1704790800-1704819600@thethomashub.org
SUMMARY:HealthKeeperz Meeting
DESCRIPTION:
URL:https://thethomashub.org/event/healthkeeperz-meeting/
LOCATION:Small Conference Room
END:VEVENT
BEGIN:VEVENT
DTSTART;VALUE=DATE:20240101
DTEND;VALUE=DATE:20240102
DTSTAMP:20260420T201451
CREATED:20231219T005330Z
LAST-MODIFIED:20240101T185357Z
UID:5541-1704067200-1704153599@thethomashub.org
SUMMARY:New Year's Day
DESCRIPTION:
URL:https://thethomashub.org/event/new-years-day/
END:VEVENT
END:VCALENDAR