BEGIN:VCALENDAR
VERSION:2.0
PRODID:-//Thomas Enterpreneurship Hub - ECPv6.15.20//NONSGML v1.0//EN
CALSCALE:GREGORIAN
METHOD:PUBLISH
X-WR-CALNAME:Thomas Enterpreneurship Hub
X-ORIGINAL-URL:https://thethomashub.org
X-WR-CALDESC:Events for Thomas Enterpreneurship Hub
REFRESH-INTERVAL;VALUE=DURATION:PT1H
X-Robots-Tag:noindex
X-PUBLISHED-TTL:PT1H
BEGIN:VTIMEZONE
TZID:America/New_York
BEGIN:DAYLIGHT
TZOFFSETFROM:-0500
TZOFFSETTO:-0400
TZNAME:EDT
DTSTART:20220313T070000
END:DAYLIGHT
BEGIN:STANDARD
TZOFFSETFROM:-0400
TZOFFSETTO:-0500
TZNAME:EST
DTSTART:20221106T060000
END:STANDARD
BEGIN:DAYLIGHT
TZOFFSETFROM:-0500
TZOFFSETTO:-0400
TZNAME:EDT
DTSTART:20230312T070000
END:DAYLIGHT
BEGIN:STANDARD
TZOFFSETFROM:-0400
TZOFFSETTO:-0500
TZNAME:EST
DTSTART:20231105T060000
END:STANDARD
BEGIN:DAYLIGHT
TZOFFSETFROM:-0500
TZOFFSETTO:-0400
TZNAME:EDT
DTSTART:20240310T070000
END:DAYLIGHT
BEGIN:STANDARD
TZOFFSETFROM:-0400
TZOFFSETTO:-0500
TZNAME:EST
DTSTART:20241103T060000
END:STANDARD
END:VTIMEZONE
BEGIN:VEVENT
DTSTART;VALUE=DATE:20231231
DTEND;VALUE=DATE:20240101
DTSTAMP:20260420T145745
CREATED:20231219T005330Z
LAST-MODIFIED:20231231T185348Z
UID:5540-1703980800-1704067199@thethomashub.org
SUMMARY:New Year's Eve
DESCRIPTION:
URL:https://thethomashub.org/event/new-years-eve/
END:VEVENT
BEGIN:VEVENT
DTSTART;VALUE=DATE:20231225
DTEND;VALUE=DATE:20231226
DTSTAMP:20260420T145745
CREATED:20231219T005330Z
LAST-MODIFIED:20231225T185352Z
UID:5538-1703462400-1703548799@thethomashub.org
SUMMARY:Christmas Day
DESCRIPTION:
URL:https://thethomashub.org/event/christmas-day/
END:VEVENT
BEGIN:VEVENT
DTSTART;VALUE=DATE:20231224
DTEND;VALUE=DATE:20231225
DTSTAMP:20260420T145745
CREATED:20231219T005330Z
LAST-MODIFIED:20231224T185348Z
UID:5539-1703376000-1703462399@thethomashub.org
SUMMARY:Christmas Eve
DESCRIPTION:
URL:https://thethomashub.org/event/christmas-eve/
END:VEVENT
BEGIN:VEVENT
DTSTART;TZID=America/New_York:20231220T080000
DTEND;TZID=America/New_York:20231220T160000
DTSTAMP:20260420T145745
CREATED:20231213T065420Z
LAST-MODIFIED:20231220T185442Z
UID:5520-1703059200-1703088000@thethomashub.org
SUMMARY:ETI Stem Event
DESCRIPTION:
URL:https://thethomashub.org/event/eti-stem-event-2/
LOCATION:Lobby & Large Conference Room
END:VEVENT
BEGIN:VEVENT
DTSTART;TZID=America/New_York:20231219T080000
DTEND;TZID=America/New_York:20231219T160000
DTSTAMP:20260420T145745
CREATED:20231213T065420Z
LAST-MODIFIED:20231219T185517Z
UID:5518-1702972800-1703001600@thethomashub.org
SUMMARY:ETI Stem Event
DESCRIPTION:
URL:https://thethomashub.org/event/eti-stem-event/
LOCATION:Lobby & Large Conference Room
END:VEVENT
BEGIN:VEVENT
DTSTART;TZID=America/New_York:20231214T090000
DTEND;TZID=America/New_York:20231214T150000
DTSTAMP:20260420T145745
CREATED:20231213T065419Z
LAST-MODIFIED:20231214T203031Z
UID:5516-1702544400-1702566000@thethomashub.org
SUMMARY:NC A&T Farming Workshop
DESCRIPTION:
URL:https://thethomashub.org/event/nc-at-farming-workshop/
LOCATION:Large Conference Room
END:VEVENT
BEGIN:VEVENT
DTSTART;TZID=America/New_York:20231213T183000
DTEND;TZID=America/New_York:20231213T203000
DTSTAMP:20260420T145745
CREATED:20231213T065419Z
LAST-MODIFIED:20231214T065613Z
UID:5514-1702492200-1702499400@thethomashub.org
SUMMARY:Chicora Executive Meeting
DESCRIPTION:
URL:https://thethomashub.org/event/chicora-executive-meeting/
LOCATION:Large Conference Room
END:VEVENT
BEGIN:VEVENT
DTSTART;TZID=America/New_York:20231213T133000
DTEND;TZID=America/New_York:20231213T163000
DTSTAMP:20260420T145745
CREATED:20231213T065419Z
LAST-MODIFIED:20231213T185410Z
UID:5512-1702474200-1702485000@thethomashub.org
SUMMARY:Active Shooter Training-Campus Police
DESCRIPTION:
URL:https://thethomashub.org/event/active-shooter-training-campus-police/
LOCATION:Thomas Hub
END:VEVENT
BEGIN:VEVENT
DTSTART;TZID=America/New_York:20231213T113000
DTEND;TZID=America/New_York:20231213T131500
DTSTAMP:20260420T145745
CREATED:20231213T065419Z
LAST-MODIFIED:20231213T185409Z
UID:5510-1702467000-1702473300@thethomashub.org
SUMMARY:Thomas Hub Christmas Party
DESCRIPTION:
URL:https://thethomashub.org/event/thomas-hub-christmas-party/
LOCATION:Lobby
END:VEVENT
BEGIN:VEVENT
DTSTART;TZID=America/New_York:20231212T180000
DTEND;TZID=America/New_York:20231212T200000
DTSTAMP:20260420T145745
CREATED:20231213T065419Z
LAST-MODIFIED:20231213T065419Z
UID:5508-1702404000-1702411200@thethomashub.org
SUMMARY:Friends of RCC Retirement Party
DESCRIPTION:
URL:https://thethomashub.org/event/friends-of-rcc-retirement-party/
LOCATION:Lobby
END:VEVENT
BEGIN:VEVENT
DTSTART;TZID=America/New_York:20231116T150000
DTEND;TZID=America/New_York:20231116T170000
DTSTAMP:20260420T145745
CREATED:20231024T115631Z
LAST-MODIFIED:20231116T185630Z
UID:5344-1700146800-1700154000@thethomashub.org
SUMMARY:Empowering Entrepreneurs: Women Entrepreneurs Forum
DESCRIPTION:2023 Global Entrepreneurship Week\nSee attachment for additional information.
URL:https://thethomashub.org/event/empowering-entrepreneurs-women-entrepreneurs-forum/
LOCATION:UNCP College of Business and Economics\, 1 University Dr\, Pembroke\, NC\, United States
END:VEVENT
BEGIN:VEVENT
DTSTART;TZID=America/New_York:20231116T100000
DTEND;TZID=America/New_York:20231116T150000
DTSTAMP:20260420T145745
CREATED:20231107T005440Z
LAST-MODIFIED:20231116T185630Z
UID:5388-1700128800-1700146800@thethomashub.org
SUMMARY:Resources & Support for the USDA Discrimination Financial Assistance Program
DESCRIPTION:See attachment for additional information.
URL:https://thethomashub.org/event/resources-support-for-the-usda-discrimination-financial-assistance-program/
LOCATION:UNC Pembroke Entrepreneurship Incubator\, 300 Main St\, Pembroke\, NC\, United States
END:VEVENT
BEGIN:VEVENT
DTSTART;TZID=America/New_York:20231115T080000
DTEND;TZID=America/New_York:20231115T090000
DTSTAMP:20260420T145745
CREATED:20231019T115525Z
LAST-MODIFIED:20231115T185626Z
UID:5333-1700035200-1700038800@thethomashub.org
SUMMARY:1 Million Cups
DESCRIPTION:“Celebrating Entrepreneurship”\nWhat can our start up community do for you?\nSee attachment for additional information.
URL:https://thethomashub.org/event/1-million-cups/
LOCATION:UNC Pembroke Entrepreneurship Incubator\, 300 Main St\, Pembroke\, NC\, United States
END:VEVENT
BEGIN:VEVENT
DTSTART;VALUE=DATE:20231115
DTEND;VALUE=DATE:20231116
DTSTAMP:20260420T145745
CREATED:20230913T175744Z
LAST-MODIFIED:20231115T185626Z
UID:5026-1700006400-1700092799@thethomashub.org
SUMMARY:NC IDEA Ecosystem Summit 2023
DESCRIPTION:NC IDEA will host its 5th annual Ecosystem Summit on November 13-15\, 2023 in the Research Triangle region. The Summit is the only statewide conference that brings together diverse leaders to address what is needed to support all entrepreneurs and create a shared vision of making our state the best place to start and grow a business. \nWhile the audience and topics of past Summits have leaned toward support organizations and community partners\, they are adding more targeted content for those they collectively serve\, the entrepreneurs. To make all this exciting content and networking fit into one conference\, they are adding a third day to this year’s event! \nSince the inaugural Summit in 2019\, NC IDEA continues to foster partnerships and unique connections that will make a meaningful difference for North Carolina’s entrepreneurial community. You are invited to join hundreds of accomplished peers working together to redefine equitable economic development practices. \nClick Here To Register
URL:https://thethomashub.org/event/nc-idea-ecosystem-summit-2023-3/
LOCATION:Hilton Raleigh North Hills\, 3415 Wake Forest Rd\, Raleigh\, NC\, United States
END:VEVENT
BEGIN:VEVENT
DTSTART;TZID=America/New_York:20231114T170000
DTEND;TZID=America/New_York:20231114T203000
DTSTAMP:20260420T145745
CREATED:20230928T115747Z
LAST-MODIFIED:20231114T185714Z
UID:5211-1699981200-1699993800@thethomashub.org
SUMMARY:Entrepreneurial Summit to Inspire Innovation & Ignite Small Business Creation
DESCRIPTION:
URL:https://thethomashub.org/event/entrepreneurial-summit-to-inspire-innovation-ignite-small-business-creation/
LOCATION:Fair Barn\, 200 Beulah Hill Rd S\, Pinehurst\, NC\, United States
END:VEVENT
BEGIN:VEVENT
DTSTART;TZID=America/New_York:20231114T113000
DTEND;TZID=America/New_York:20231114T173000
DTSTAMP:20260420T145745
CREATED:20231024T115630Z
LAST-MODIFIED:20231114T185714Z
UID:5342-1699961400-1699983000@thethomashub.org
SUMMARY:Encouraging Entrepreneurs
DESCRIPTION:2023 Global Entrepreneurship Week\nSee attachment for more information
URL:https://thethomashub.org/event/encouraging-entrepreneurs/
LOCATION:UNCP College of Business and Economics\, 1 University Dr\, Pembroke\, NC\, United States
END:VEVENT
BEGIN:VEVENT
DTSTART;VALUE=DATE:20231114
DTEND;VALUE=DATE:20231115
DTSTAMP:20260420T145745
CREATED:20230913T175732Z
LAST-MODIFIED:20231114T185713Z
UID:5025-1699920000-1700006399@thethomashub.org
SUMMARY:NC IDEA Ecosystem Summit 2023
DESCRIPTION:NC IDEA will host its 5th annual Ecosystem Summit on November 13-15\, 2023 in the Research Triangle region. The Summit is the only statewide conference that brings together diverse leaders to address what is needed to support all entrepreneurs and create a shared vision of making our state the best place to start and grow a business. \nWhile the audience and topics of past Summits have leaned toward support organizations and community partners\, they are adding more targeted content for those they collectively serve\, the entrepreneurs. To make all this exciting content and networking fit into one conference\, they are adding a third day to this year’s event! \nSince the inaugural Summit in 2019\, NC IDEA continues to foster partnerships and unique connections that will make a meaningful difference for North Carolina’s entrepreneurial community. You are invited to join hundreds of accomplished peers working together to redefine equitable economic development practices. \nClick Here To Register
URL:https://thethomashub.org/event/nc-idea-ecosystem-summit-2023-2/
LOCATION:Hilton Raleigh North Hills\, 3415 Wake Forest Rd\, Raleigh\, NC\, United States
END:VEVENT
BEGIN:VEVENT
DTSTART;VALUE=DATE:20231113
DTEND;VALUE=DATE:20231114
DTSTAMP:20260420T145745
CREATED:20230913T175732Z
LAST-MODIFIED:20231113T185533Z
UID:5023-1699833600-1699919999@thethomashub.org
SUMMARY:NC IDEA Ecosystem Summit 2023
DESCRIPTION:NC IDEA will host its 5th annual Ecosystem Summit on November 13-15\, 2023 in the Research Triangle region. The Summit is the only statewide conference that brings together diverse leaders to address what is needed to support all entrepreneurs and create a shared vision of making our state the best place to start and grow a business. \nWhile the audience and topics of past Summits have leaned toward support organizations and community partners\, they are adding more targeted content for those they collectively serve\, the entrepreneurs. To make all this exciting content and networking fit into one conference\, they are adding a third day to this year’s event! \nSince the inaugural Summit in 2019\, NC IDEA continues to foster partnerships and unique connections that will make a meaningful difference for North Carolina’s entrepreneurial community. You are invited to join hundreds of accomplished peers working together to redefine equitable economic development practices. \nClick Here To Register
URL:https://thethomashub.org/event/nc-idea-ecosystem-summit-2023/
LOCATION:Hilton Raleigh North Hills\, 3415 Wake Forest Rd\, Raleigh\, NC\, United States
END:VEVENT
BEGIN:VEVENT
DTSTART;TZID=America/New_York:20231108T110000
DTEND;TZID=America/New_York:20231108T120000
DTSTAMP:20260420T145745
CREATED:20231006T175708Z
LAST-MODIFIED:20231108T185439Z
UID:5240-1699441200-1699444800@thethomashub.org
SUMMARY:How to Train Your AI for Small Business
DESCRIPTION:See attachment for more information.
URL:https://thethomashub.org/event/how-to-train-your-ai-for-small-business/
LOCATION:UNCW Center for Innovation and Entrepreneurship (CIE)\, 1001 S College Rd\, Wilmington\, NC\, United States
END:VEVENT
BEGIN:VEVENT
DTSTART;TZID=America/New_York:20231101T100000
DTEND;TZID=America/New_York:20231101T110000
DTSTAMP:20260420T145745
CREATED:20230222T015917Z
LAST-MODIFIED:20231101T175604Z
UID:2727-1698832800-1698836400@thethomashub.org
SUMMARY:EXIM Export Credit Insurance
DESCRIPTION:Topics to be covered include: \n\nExport Express.\nSingle-Buyer.\nMulti-Buyer.\n\nPresenter: Susan Kintanar\, EXIM Bank \nJoin the U.S. Small Business Administration\, U.S. Export-Import Bank\, NC District Export Council\, NC World Trade Association and host\, NC SBTDC International Business Development team for our 8th Annual Trade Finance Webinar Series. \nClick Here To Register
URL:https://thethomashub.org/event/exim-export-credit-insurance/
LOCATION:Virtual
END:VEVENT
BEGIN:VEVENT
DTSTART;TZID=America/New_York:20231031T110000
DTEND;TZID=America/New_York:20231031T120000
DTSTAMP:20260420T145745
CREATED:20231006T175708Z
LAST-MODIFIED:20231031T175517Z
UID:5239-1698750000-1698753600@thethomashub.org
SUMMARY:Create Spreadsheets Using AI for Small Business
DESCRIPTION:Please see attachment for more information.
URL:https://thethomashub.org/event/create-spreadsheets-using-ai-for-small-business/
LOCATION:UNCW Center for Innovation and Entrepreneurship (CIE)\, 1001 S College Rd\, Wilmington\, NC\, United States
END:VEVENT
BEGIN:VEVENT
DTSTART;TZID=America/New_York:20231029T140000
DTEND;TZID=America/New_York:20231029T180000
DTSTAMP:20260420T145745
CREATED:20230922T175728Z
LAST-MODIFIED:20231029T175508Z
UID:5169-1698588000-1698602400@thethomashub.org
SUMMARY:Halloween Pictures
DESCRIPTION:Jordan Portrait Design\nFREE community event: come dressed in your spooky best!\n1 FREE digital image\nRSVP to 910-674-5138
URL:https://thethomashub.org/event/halloween-pictures/
LOCATION:UNC Pembroke Entrepreneurship Incubator\, 202 Main St\, Pembroke\, NC 28372\, USA
END:VEVENT
BEGIN:VEVENT
DTSTART;TZID=America/New_York:20231028T083000
DTEND;TZID=America/New_York:20231028T150000
DTSTAMP:20260420T145745
CREATED:20230926T175718Z
LAST-MODIFIED:20231028T175416Z
UID:5192-1698481800-1698505200@thethomashub.org
SUMMARY:Carolina Cancer Benefit Ride
DESCRIPTION:Carolina Cancer Foundation 3rd Annual Linked to Pink Benefit Ride**See Attachment for Details**
URL:https://thethomashub.org/event/carolina-cancer-benefit-ride/
LOCATION:Union Baptist Church\, 2290 Old N East Rd\, Lake Waccamaw\, NC 28450\, USA
END:VEVENT
BEGIN:VEVENT
DTSTART;TZID=America/New_York:20231025T193000
DTEND;TZID=America/New_York:20231025T220000
DTSTAMP:20260420T145745
CREATED:20231007T055722Z
LAST-MODIFIED:20231025T175514Z
UID:5245-1698262200-1698271200@thethomashub.org
SUMMARY:'Ofrenda: A Dia De Los Muertos Celebration'
DESCRIPTION:For Tickets contact uncp.edu/gpac or call 910-521-6361.
URL:https://thethomashub.org/event/ofrenda-a-dia-de-los-muertos-celebration/
LOCATION:Givens Performing Arts Center\, 359 Prospect Rd\, Pembroke\, NC 28372\, USA
END:VEVENT
BEGIN:VEVENT
DTSTART;TZID=America/New_York:20231025T160000
DTEND;TZID=America/New_York:20231025T170000
DTSTAMP:20260420T145745
CREATED:20231017T055735Z
LAST-MODIFIED:20231025T175514Z
UID:5319-1698249600-1698253200@thethomashub.org
SUMMARY:Building Coaching Relationships for Success
DESCRIPTION:See attachment to register and for additional information.
URL:https://thethomashub.org/event/building-coaching-relationships-for-success/
LOCATION:Online Program
END:VEVENT
BEGIN:VEVENT
DTSTART;TZID=America/New_York:20231025T110000
DTEND;TZID=America/New_York:20231025T120000
DTSTAMP:20260420T145745
CREATED:20231006T175707Z
LAST-MODIFIED:20231025T175514Z
UID:5238-1698231600-1698235200@thethomashub.org
SUMMARY:Digital Marketing Using AI for Small Business
DESCRIPTION:See attachment for additional information.
URL:https://thethomashub.org/event/digital-marketing-using-ai-for-small-business/
LOCATION:UNCW Center for Innovation and Entrepreneurship (CIE)\, 803 College Rd G\, Wilmington\, NC 28403\, USA
END:VEVENT
BEGIN:VEVENT
DTSTART;TZID=America/New_York:20231024T180000
DTEND;TZID=America/New_York:20231024T200000
DTSTAMP:20260420T145745
CREATED:20230913T175732Z
LAST-MODIFIED:20231024T235428Z
UID:5021-1698170400-1698177600@thethomashub.org
SUMMARY:Taking the Leap for Women Entrepreneurs – Kickstart Your Business in 4 Weeks
DESCRIPTION:In honor of the SBA National Women’s Small Business Month\, we are hosting a cohort for women entrepreneurs. \nStarting a business without any guidance can be daunting. Why leap without having the tools to soar? Have an idea for a product or service but don’t know where to start? \nOur free Taking the Leap cohorts are your first step! These interactive sessions will provide you with a unique opportunity to connect with other like-minded individuals\, share your ideas and learn from one another. You’ll also have the chance to ask questions and receive personalized advice from our instructors and guest mentors. \nEntrepreneurs can expect to add the following items to their toolbox: \n\nBusiness Plan Templates / Outlines / Guides\nFinancial Projection Templates\nIntellectual Property Guide\nDigital Marketing Guide\nMarket and Industry Research\nCustomer Discovery Guide\nStartup Checklist\n\nClick Here To Register
URL:https://thethomashub.org/event/taking-the-leap-for-women-entrepreneurs-kickstart-your-business-in-4-weeks-4/
LOCATION:Virtual
END:VEVENT
BEGIN:VEVENT
DTSTART;TZID=America/New_York:20231024T090000
DTEND;TZID=America/New_York:20231024T120000
DTSTAMP:20260420T145745
CREATED:20230819T015556Z
LAST-MODIFIED:20231024T175428Z
UID:4605-1698138000-1698148800@thethomashub.org
SUMMARY:Farm Food Safety
DESCRIPTION:This workshop will guide you through the basic principles of farm food safety. CFSA’s Local Food Safety Coordinator will talk about \n\nHow to perform risk assessments\nImplementing easy record-keeping procedures\nGetting started on a basic food safety plan\n\nFree\, but registration is required to attend. Lunch includedMax Capacity: 25 \nhttps://www.carolinafarmstewards.org/event/farm-food-safety-2/ \nClick Here To register
URL:https://thethomashub.org/event/farm-food-safety/
LOCATION:UNC Pembroke Thomas Entrepreneurship HUB\, 202 Main St\, Pembroke NC 28372
END:VEVENT
BEGIN:VEVENT
DTSTART;TZID=America/New_York:20231023T180000
DTEND;TZID=America/New_York:20231023T200000
DTSTAMP:20260420T145745
CREATED:20230913T175731Z
LAST-MODIFIED:20231023T175459Z
UID:5020-1698084000-1698091200@thethomashub.org
SUMMARY:Taking the Leap – Kickstart Your Business in 4 Weeks
DESCRIPTION:Starting a business without any guidance can be daunting. Why leap without having the tools to soar? Have an idea for a product or service but don’t know where to start? \nOur free Taking the Leap cohorts are your first step! These interactive sessions will provide you with a unique opportunity to connect with other like-minded individuals\, share your ideas and learn from one another. You’ll also have the chance to ask questions and receive personalized advice from our instructors and guest mentors. \nEntrepreneurs can expect to add the following items to their toolbox: \n\nBusiness Plan Templates / Outlines / Guides\nFinancial Projection Templates\nIntellectual Property Guide\nDigital Marketing Guide\nMarket and Industry Research\nCustomer Discovery Guide\nStartup Checklist\n\nClick Here To Register
URL:https://thethomashub.org/event/taking-the-leap-kickstart-your-business-in-4-weeks-9/
LOCATION:Webinar
END:VEVENT
BEGIN:VEVENT
DTSTART;VALUE=DATE:20231023
DTEND;VALUE=DATE:20231024
DTSTAMP:20260420T145746
CREATED:20230929T175752Z
LAST-MODIFIED:20231023T175459Z
UID:5219-1698019200-1698105599@thethomashub.org
SUMMARY:Calling All Change-Makers
DESCRIPTION:UNC Pembroke Biotechnology Center\nAccelerateNC Ambassador training
URL:https://thethomashub.org/event/calling-all-change-makers/
LOCATION:115 Livermore Drive\, Pembroke\, NC 28372\, USA
END:VEVENT
END:VCALENDAR